BEGIN:VCALENDAR
VERSION:2.0
PRODID:-//ChamberMaster//Event Calendar 2.0//EN
METHOD:PUBLISH
X-PUBLISHED-TTL:P3D
REFRESH-INTERVAL:P3D
CALSCALE:GREGORIAN
BEGIN:VEVENT
DTSTART:20210218T180000Z
DTEND:20210218T193000Z
X-MICROSOFT-CDO-ALLDAYEVENT:FALSE
SUMMARY:Virtual Network Shakeup!
DESCRIPTION:Join BACC for a Zoom Networking Event with Big-Screen Connections and Small Break-Out Room Discussions!\n\n\n\n$15/Member\n\n$25/Individual Non Member\n\nOR\n\nBring a Guest & Save: $20/Member & Guest\n\n\n\nDeadline to register is Feb. 17 at noon
X-ALT-DESC;FMTTYPE=text/html:Join BACC for a&nbsp\;Zoom Networking Event with Big-Screen Connections and Small Break-Out Room Discussions!<br />\n<br />\n$15/Member<br />\n$25/Individual Non Member<br />\nOR<br />\nBring a Guest &amp\; Save: $20/Member &amp\; Guest<br />\n<br />\n<strong><span style="color:#B22222\;">Deadline to register is Feb. 17 at noon</span></strong>
LOCATION:Zoom meeting - Register to receive your link
UID:e.21.27672
SEQUENCE:3
DTSTAMP:20260425T145122Z
URL:http://barringtonchamber.chambermaster.com/events/details/virtual-network-shakeup-27672
END:VEVENT

END:VCALENDAR
