BEGIN:VCALENDAR
VERSION:2.0
PRODID:-//ChamberMaster//Event Calendar 2.0//EN
METHOD:PUBLISH
X-PUBLISHED-TTL:P3D
REFRESH-INTERVAL:P3D
CALSCALE:GREGORIAN
BEGIN:VEVENT
DTSTART:20210616T140000Z
DTEND:20210616T153000Z
X-MICROSOFT-CDO-ALLDAYEVENT:FALSE
SUMMARY:Strategic Thinking: Tools and Techniques
DESCRIPTION:Your company is facing challenges and opportunities it has never experienced. It needs people at all levels to think more strategically. It needs professionals who think beyond the strict confines of their job description. Strategic Thinkers:   Think across time   Think bigger   Think about second-order effects   Find and vet "other ways."   Know how to close the gap between intention and execution
X-ALT-DESC;FMTTYPE=text/html:Your company is facing challenges and opportunities it has never experienced. It needs people at all levels to think more strategically. It needs professionals who think beyond the strict confines of their job description. Strategic Thinkers: &bull\; Think across time &bull\; Think bigger &bull\; Think about second-order effects &bull\; Find and vet &ldquo\;other ways.&rdquo\; &bull\; Know how to close the gap between intention and execution
LOCATION:Live Zoom
UID:e.21.27896
SEQUENCE:3
DTSTAMP:20260421T082301Z
URL:http://barringtonchamber.chambermaster.com/events/details/strategic-thinking-tools-and-techniques-27896
END:VEVENT

END:VCALENDAR
