BEGIN:VCALENDAR
VERSION:2.0
PRODID:-//ChamberMaster//Event Calendar 2.0//EN
METHOD:PUBLISH
X-PUBLISHED-TTL:P3D
REFRESH-INTERVAL:P3D
CALSCALE:GREGORIAN
BEGIN:VEVENT
DTSTART:20210122T140000Z
DTEND:20210122T180000Z
X-MICROSOFT-CDO-ALLDAYEVENT:FALSE
SUMMARY:PowerPoint Basics
DESCRIPTION:Learn the basics of PowerPoint to create and deliver professional-looking slides while easily sharing information. The purpose of PowerPoint is to act as a visual aid as a presenter presents his/her ideas\, sales presentation\, story\, etc. You will learn to combine text\, graphics and multi-media content to create professional presentations. A sample of the topics we will cover are PowerPoint views\, creating effective presentations\, design themes\, formatting text and more.
X-ALT-DESC;FMTTYPE=text/html:Learn the basics of PowerPoint to create and deliver professional-looking slides while easily sharing information. The purpose of PowerPoint is to act as a visual aid as a presenter presents his/her ideas\, sales presentation\, story\, etc. You will learn to combine text\, graphics and multi-media content to create professional presentations. A sample of the topics we will cover are PowerPoint views\, creating effective presentations\, design themes\, formatting text and more.
LOCATION:Zoom
UID:e.21.27682
SEQUENCE:3
DTSTAMP:20260424T193936Z
URL:http://barringtonchamber.chambermaster.com/events/details/powerpoint-basics-27682
END:VEVENT

END:VCALENDAR
