BEGIN:VCALENDAR
VERSION:2.0
PRODID:-//ChamberMaster//Event Calendar 2.0//EN
METHOD:PUBLISH
X-PUBLISHED-TTL:P3D
REFRESH-INTERVAL:P3D
CALSCALE:GREGORIAN
BEGIN:VEVENT
DTSTART:20210730T220000Z
DTEND:20210731T000000Z
X-MICROSOFT-CDO-ALLDAYEVENT:FALSE
SUMMARY:Improving Mindfulness
DESCRIPTION:Staying in tune both mentally and emotionally improves perspective to enhance personal and professional success. In this workshop\, you will begin to identify your own patterns of thinking and learn to practice mindfulness.
X-ALT-DESC;FMTTYPE=text/html:Staying in tune both mentally and emotionally improves perspective to enhance personal and professional success. In this workshop\, you will begin to identify your own patterns of thinking and learn to practice mindfulness.
LOCATION:Live Zoom
UID:e.21.28074
SEQUENCE:3
DTSTAMP:20260424T170916Z
URL:http://barringtonchamber.chambermaster.com/events/details/improving-mindfulness-28074
END:VEVENT

END:VCALENDAR
