BEGIN:VCALENDAR
VERSION:2.0
PRODID:-//ChamberMaster//Event Calendar 2.0//EN
METHOD:PUBLISH
X-PUBLISHED-TTL:P3D
REFRESH-INTERVAL:P3D
CALSCALE:GREGORIAN
BEGIN:VEVENT
DTSTART:20201201T140000Z
DTEND:20201201T180000Z
X-MICROSOFT-CDO-ALLDAYEVENT:FALSE
SUMMARY:Excel Intermediate
DESCRIPTION:Excel Intermediate will expand your Excel knowledge to new horizons. You are going to discover a whole range of skills and techniques that will become a standard component of your everyday use of Excel. In this course\, you will learn how to print worksheets\, use excel templates\, work/integrate multiple worksheets\, apply conditional formatting\, create charts and much more.
X-ALT-DESC;FMTTYPE=text/html:Excel Intermediate will expand your Excel knowledge to new horizons. You are going to discover a whole range of skills and techniques that will become a standard component of your everyday use of Excel. In this course\, you will learn how to print worksheets\, use excel templates\, work/integrate multiple worksheets\, apply conditional formatting\, create charts and much more.
LOCATION:Live Zoom
UID:e.21.27643
SEQUENCE:3
DTSTAMP:20260425T025859Z
URL:http://barringtonchamber.chambermaster.com/events/details/excel-intermediate-27643
END:VEVENT

END:VCALENDAR
