BEGIN:VCALENDAR
VERSION:2.0
PRODID:-//ChamberMaster//Event Calendar 2.0//EN
METHOD:PUBLISH
X-PUBLISHED-TTL:P3D
REFRESH-INTERVAL:P3D
CALSCALE:GREGORIAN
BEGIN:VEVENT
DTSTART:20210622T130000Z
DTEND:20210622T170000Z
X-MICROSOFT-CDO-ALLDAYEVENT:FALSE
SUMMARY:Excel Formulas and Functions
DESCRIPTION:Excel functions can greatly enhance your ability to perform tasks in day to day activities in Excel. There are hundreds of functions in available. Learn how to find the functions you need. Learn a sample of functions from each of the categories to gain familiarity with their use.
X-ALT-DESC;FMTTYPE=text/html:Excel functions can greatly enhance your ability to perform tasks in day to day activities in Excel. There are hundreds of functions in available. Learn how to find the functions you need. Learn a sample of functions from each of the categories to gain familiarity with their use.
LOCATION:Live Zoom
UID:e.21.27898
SEQUENCE:3
DTSTAMP:20260420T214725Z
URL:http://barringtonchamber.chambermaster.com/events/details/excel-formulas-and-functions-27898
END:VEVENT

END:VCALENDAR
